BEGIN:VCALENDAR
VERSION:2.0
CALSCALE:GREGORIAN
BEGIN:VEVENT
URL:https://www.learndesk.us/class/6606029947142144/lesson/c433f2c308f579a97245f5b9d6d42a73?ref=outlook-calendar
SUMMARY:Loading Performance and "font-display"
DTSTART;TZID=America/Los_Angeles:20260423T190000
DTEND;TZID=America/Los_Angeles:20260423T200000
LOCATION:https://www.learndesk.us/class/6606029947142144/lesson/c433f2c308f579a97245f5b9d6d42a73?ref=outlook-calendar
DESCRIPTION: Fonts make our website beautiful - and slow. Not necessarily though but we should have a look at "font-display" and how we can use it to improve the loading behaviour of our customized fonts imported with @font-face.

https://www.learndesk.us/class/6606029947142144/lesson/c433f2c308f579a97245f5b9d6d42a73?ref=outlook-calendar
STATUS:CONFIRMED
SEQUENCE:3
BEGIN:VALARM
TRIGGER:-PT10M
DESCRIPTION:Class Reminder
ACTION:DISPLAY
END:VALARM
END:VEVENT
END:VCALENDAR