BEGIN:VCALENDAR
VERSION:2.0
CALSCALE:GREGORIAN
BEGIN:VEVENT
URL:https://www.learndesk.us/class/6606029947142144/lesson/c34fbcdcaa31fa05d7f4556d21bd5e18?ref=outlook-calendar
SUMMARY:Why our Project Should Become Responsive
DTSTART;TZID=America/Los_Angeles:20260422T190000
DTEND;TZID=America/Los_Angeles:20260422T200000
LOCATION:https://www.learndesk.us/class/6606029947142144/lesson/c34fbcdcaa31fa05d7f4556d21bd5e18?ref=outlook-calendar
DESCRIPTION: Our website gets better and better, but we have one problem: We only worked on the styling for desktop devices. Many of our potential users might visit our site using mobile devices, so we should ensure that our site looks great for all users. To achieve this, we need to make our site responsive.

https://www.learndesk.us/class/6606029947142144/lesson/c34fbcdcaa31fa05d7f4556d21bd5e18?ref=outlook-calendar
STATUS:CONFIRMED
SEQUENCE:3
BEGIN:VALARM
TRIGGER:-PT10M
DESCRIPTION:Class Reminder
ACTION:DISPLAY
END:VALARM
END:VEVENT
END:VCALENDAR