BEGIN:VCALENDAR
VERSION:2.0
CALSCALE:GREGORIAN
BEGIN:VEVENT
URL:https://www.learndesk.us/class/6606029947142144/lesson/c2b7dcbfcc8f514e1f8118c88116b570?ref=outlook-calendar
SUMMARY:Adding Multiple Keyframes
DTSTART;TZID=America/Los_Angeles:20260422T190000
DTEND;TZID=America/Los_Angeles:20260422T200000
LOCATION:https://www.learndesk.us/class/6606029947142144/lesson/c2b7dcbfcc8f514e1f8118c88116b570?ref=outlook-calendar
DESCRIPTION: We added a basic animation, let's now have a look at multiple keyframes.

https://www.learndesk.us/class/6606029947142144/lesson/c2b7dcbfcc8f514e1f8118c88116b570?ref=outlook-calendar
STATUS:CONFIRMED
SEQUENCE:3
BEGIN:VALARM
TRIGGER:-PT10M
DESCRIPTION:Class Reminder
ACTION:DISPLAY
END:VALARM
END:VEVENT
END:VCALENDAR