BEGIN:VCALENDAR
VERSION:2.0
CALSCALE:GREGORIAN
BEGIN:VEVENT
URL:https://www.learndesk.us/class/6606029947142144/lesson/beaf7f8340eeec4114f3361edb7a3070?ref=outlook-calendar
SUMMARY:Why Positioning will improve our Website
DTSTART;TZID=America/Los_Angeles:20260423T190000
DTEND;TZID=America/Los_Angeles:20260423T200000
LOCATION:https://www.learndesk.us/class/6606029947142144/lesson/beaf7f8340eeec4114f3361edb7a3070?ref=outlook-calendar
DESCRIPTION: Why Positioning will improve our Website

https://www.learndesk.us/class/6606029947142144/lesson/beaf7f8340eeec4114f3361edb7a3070?ref=outlook-calendar
STATUS:CONFIRMED
SEQUENCE:3
BEGIN:VALARM
TRIGGER:-PT10M
DESCRIPTION:Class Reminder
ACTION:DISPLAY
END:VALARM
END:VEVENT
END:VCALENDAR