BEGIN:VCALENDAR
VERSION:2.0
CALSCALE:GREGORIAN
BEGIN:VEVENT
URL:https://www.learndesk.us/class/6606029947142144/lesson/b9811a36fa42f3a8ce97524167b3f785?ref=outlook-calendar
SUMMARY:Rules to Remember: Relative / Static Positioning & "%"
DTSTART;TZID=America/Los_Angeles:20260422T190000
DTEND;TZID=America/Los_Angeles:20260422T200000
LOCATION:https://www.learndesk.us/class/6606029947142144/lesson/b9811a36fa42f3a8ce97524167b3f785?ref=outlook-calendar
DESCRIPTION: Two more values left to fully understand the "%" unit. Let's dive into "relative" and "static" and see how these affect the containing block.

https://www.learndesk.us/class/6606029947142144/lesson/b9811a36fa42f3a8ce97524167b3f785?ref=outlook-calendar
STATUS:CONFIRMED
SEQUENCE:3
BEGIN:VALARM
TRIGGER:-PT10M
DESCRIPTION:Class Reminder
ACTION:DISPLAY
END:VALARM
END:VEVENT
END:VCALENDAR