BEGIN:VCALENDAR
VERSION:2.0
CALSCALE:GREGORIAN
BEGIN:VEVENT
URL:https://www.learndesk.us/class/6606029947142144/lesson/b96ab9d2b2260bb150b3c5f0f7dea3ac?ref=outlook-calendar
SUMMARY:Understanding the Z-Index
DTSTART;TZID=America/Los_Angeles:20260422T190000
DTEND;TZID=America/Los_Angeles:20260422T200000
LOCATION:https://www.learndesk.us/class/6606029947142144/lesson/b96ab9d2b2260bb150b3c5f0f7dea3ac?ref=outlook-calendar
DESCRIPTION: We added the background image but the remaining elements are hidden below it. Why isn't there a property that allows us to change the element order along the z-axis? Thankfully the "z-index" does exactly that, so time to understand and apply it.

https://www.learndesk.us/class/6606029947142144/lesson/b96ab9d2b2260bb150b3c5f0f7dea3ac?ref=outlook-calendar
STATUS:CONFIRMED
SEQUENCE:3
BEGIN:VALARM
TRIGGER:-PT10M
DESCRIPTION:Class Reminder
ACTION:DISPLAY
END:VALARM
END:VEVENT
END:VCALENDAR