BEGIN:VCALENDAR
VERSION:2.0
CALSCALE:GREGORIAN
BEGIN:VEVENT
URL:https://www.learndesk.us/class/6606029947142144/lesson/b837ebe10edeacad547540d2f45681df?ref=outlook-calendar
SUMMARY:Nesting Selectors
DTSTART;TZID=America/Los_Angeles:20260423T190000
DTEND;TZID=America/Los_Angeles:20260423T200000
LOCATION:https://www.learndesk.us/class/6606029947142144/lesson/b837ebe10edeacad547540d2f45681df?ref=outlook-calendar
DESCRIPTION: One very cool feature of Sass is that we may easily combine selectors by nesting them. Time for a closer look.

https://www.learndesk.us/class/6606029947142144/lesson/b837ebe10edeacad547540d2f45681df?ref=outlook-calendar
STATUS:CONFIRMED
SEQUENCE:3
BEGIN:VALARM
TRIGGER:-PT10M
DESCRIPTION:Class Reminder
ACTION:DISPLAY
END:VALARM
END:VEVENT
END:VCALENDAR