BEGIN:VCALENDAR
VERSION:2.0
CALSCALE:GREGORIAN
BEGIN:VEVENT
URL:https://www.learndesk.us/class/6606029947142144/lesson/b7f645edb37c54e30c7595bcb3bcf425?ref=outlook-calendar
SUMMARY:Applying "text-decoration" and "text-shadow"
DTSTART;TZID=America/Los_Angeles:20260425T190000
DTEND;TZID=America/Los_Angeles:20260425T200000
LOCATION:https://www.learndesk.us/class/6606029947142144/lesson/b7f645edb37c54e30c7595bcb3bcf425?ref=outlook-calendar
DESCRIPTION: We are almost done, two additional properties left. Let's understand how we can use "text-decoration" and "text-shadow" to make our texts shine.

https://www.learndesk.us/class/6606029947142144/lesson/b7f645edb37c54e30c7595bcb3bcf425?ref=outlook-calendar
STATUS:CONFIRMED
SEQUENCE:3
BEGIN:VALARM
TRIGGER:-PT10M
DESCRIPTION:Class Reminder
ACTION:DISPLAY
END:VALARM
END:VEVENT
END:VCALENDAR