BEGIN:VCALENDAR
VERSION:2.0
CALSCALE:GREGORIAN
BEGIN:VEVENT
URL:https://www.learndesk.us/class/6606029947142144/lesson/b7c282bea857a5bbedcc03e1841ea688?ref=outlook-calendar
SUMMARY:And What About "align-content"?
DTSTART;TZID=America/Los_Angeles:20260423T190000
DTEND;TZID=America/Los_Angeles:20260423T200000
LOCATION:https://www.learndesk.us/class/6606029947142144/lesson/b7c282bea857a5bbedcc03e1841ea688?ref=outlook-calendar
DESCRIPTION: We were diving into almost all properties related to the Flex Container - let's have a look at the last one, "align-content", in this lecture.

https://www.learndesk.us/class/6606029947142144/lesson/b7c282bea857a5bbedcc03e1841ea688?ref=outlook-calendar
STATUS:CONFIRMED
SEQUENCE:3
BEGIN:VALARM
TRIGGER:-PT10M
DESCRIPTION:Class Reminder
ACTION:DISPLAY
END:VALARM
END:VEVENT
END:VCALENDAR