BEGIN:VCALENDAR
VERSION:2.0
CALSCALE:GREGORIAN
BEGIN:VEVENT
URL:https://www.learndesk.us/class/6606029947142144/lesson/b3063384111b0a46965a4771caaa93c4?ref=outlook-calendar
SUMMARY:Positioning our Footer Correctly
DTSTART;TZID=America/Los_Angeles:20260422T190000
DTEND;TZID=America/Los_Angeles:20260422T200000
LOCATION:https://www.learndesk.us/class/6606029947142144/lesson/b3063384111b0a46965a4771caaa93c4?ref=outlook-calendar
DESCRIPTION: We almost did it, but to make our site totally responsive, we need to fix the position of our footer. At the moment it is positioned in the somewhere in the middle of the page, so let's see how we can position the footer at its intended position: At the bottom of each page.

https://www.learndesk.us/class/6606029947142144/lesson/b3063384111b0a46965a4771caaa93c4?ref=outlook-calendar
STATUS:CONFIRMED
SEQUENCE:3
BEGIN:VALARM
TRIGGER:-PT10M
DESCRIPTION:Class Reminder
ACTION:DISPLAY
END:VALARM
END:VEVENT
END:VCALENDAR