BEGIN:VCALENDAR
VERSION:2.0
CALSCALE:GREGORIAN
BEGIN:VEVENT
URL:https://www.learndesk.us/class/6606029947142144/lesson/b148c226395dd36caff5d2ebd7e8093b?ref=outlook-calendar
SUMMARY:Providing Validation Feedback
DTSTART;TZID=America/Los_Angeles:20260423T190000
DTEND;TZID=America/Los_Angeles:20260423T200000
LOCATION:https://www.learndesk.us/class/6606029947142144/lesson/b148c226395dd36caff5d2ebd7e8093b?ref=outlook-calendar
DESCRIPTION: Styling form elements is only one part of styling forms. You also need to ensure that you provide good form validity feedback to your users. Time to dive into that.

https://www.learndesk.us/class/6606029947142144/lesson/b148c226395dd36caff5d2ebd7e8093b?ref=outlook-calendar
STATUS:CONFIRMED
SEQUENCE:3
BEGIN:VALARM
TRIGGER:-PT10M
DESCRIPTION:Class Reminder
ACTION:DISPLAY
END:VALARM
END:VEVENT
END:VCALENDAR