BEGIN:VCALENDAR
VERSION:2.0
CALSCALE:GREGORIAN
BEGIN:VEVENT
URL:https://www.learndesk.us/class/6606029947142144/lesson/b113429b30719047fc54beaa8ff7bbca?ref=outlook-calendar
SUMMARY:Diving Deeper into CSS
DTSTART;TZID=America/Los_Angeles:20260422T190000
DTEND;TZID=America/Los_Angeles:20260422T200000
LOCATION:https://www.learndesk.us/class/6606029947142144/lesson/b113429b30719047fc54beaa8ff7bbca?ref=outlook-calendar
DESCRIPTION: 
In this section, we look into CSS Box Model, understand margin collapsing, work with shorthand properties, and understand Box sizing, Display Property, Style Anchor Tags and many more.

Module Introduction
Introducing the CSS Box Model
Understanding the Box Model
Understanding Margin Collapsing and Removing Default Margins
Theory Time - Working with Shorthand Properties
Applying Shorthands in Practice
Diving Into the Height and Width Properties
Understanding Box Sizing
Adding the Header to our Project
Understanding the Display Property
Applying the Display Property and Styling our Navigation Bar
Understanding an Unexpected "inline-block" Behaviour
Working with "text-decoration" and "vertical-align"
Styling Anchor Tags
Adding Pseudo Classes
Theory Time - Pseudo Classes and Pseudo Elements
Grouping Rules
Working with "font-weight" and "border"
Adding and Styling a CTA-Button
Adding a Background Image to our Project
Properties Worth to Remember
Wrap Up



https://www.learndesk.us/class/6606029947142144/lesson/b113429b30719047fc54beaa8ff7bbca?ref=outlook-calendar
STATUS:CONFIRMED
SEQUENCE:3
BEGIN:VALARM
TRIGGER:-PT10M
DESCRIPTION:Class Reminder
ACTION:DISPLAY
END:VALARM
END:VEVENT
END:VCALENDAR