BEGIN:VCALENDAR
VERSION:2.0
CALSCALE:GREGORIAN
BEGIN:VEVENT
URL:https://www.learndesk.us/class/6606029947142144/lesson/b0bc7b1de823414c78bb8e2aa07b951d?ref=outlook-calendar
SUMMARY:Adding the Final Touches
DTSTART;TZID=America/Los_Angeles:20260422T190000
DTEND;TZID=America/Los_Angeles:20260422T200000
LOCATION:https://www.learndesk.us/class/6606029947142144/lesson/b0bc7b1de823414c78bb8e2aa07b951d?ref=outlook-calendar
DESCRIPTION: This was a lot of work, but we now finished two pages - great job. Let's fix some minor issues before we dive deeper into positioning in the next module to further improve the look of our website.

https://www.learndesk.us/class/6606029947142144/lesson/b0bc7b1de823414c78bb8e2aa07b951d?ref=outlook-calendar
STATUS:CONFIRMED
SEQUENCE:3
BEGIN:VALARM
TRIGGER:-PT10M
DESCRIPTION:Class Reminder
ACTION:DISPLAY
END:VALARM
END:VEVENT
END:VCALENDAR