BEGIN:VCALENDAR
VERSION:2.0
CALSCALE:GREGORIAN
BEGIN:VEVENT
URL:https://www.learndesk.us/class/6606029947142144/lesson/b0028d709082bdbe591e1e5a579b5ab5?ref=outlook-calendar
SUMMARY:Using the CSS Grid
DTSTART;TZID=America/Los_Angeles:20260422T190000
DTEND;TZID=America/Los_Angeles:20260422T200000
LOCATION:https://www.learndesk.us/class/6606029947142144/lesson/b0028d709082bdbe591e1e5a579b5ab5?ref=outlook-calendar
DESCRIPTION: 
In this section, we explore CSS GRID features.

Module Introduction
What is the CSS Grid?
Getting Started
Turning a Container into a Grid
Defining Columns and Rows
Positioning Child Elements in a Grid
Using "element-sizing", "repeat" and "minmax"
Advanced Element Positioning
Working with Named Lines
Understanding Column and Row Shorthands
Working with Gaps
Adding Named Template Areas
Creating Automatically Generated Grid Areas
Using the Grid on our Project
Working with "fit-content"
Positioning Grid Elements
Positioning the Entire Grid Content
Positioning Elements Individually
Understanding Responsive Grids
Applying Autoflow
Comparing the Explicit and Implicit Grid
Understanding "auto-fill" and "auto-fit"
Creating a Dense Grid
Styling the Project Form with Grid
Comparing Grid and Flexbox
Next Step



https://www.learndesk.us/class/6606029947142144/lesson/b0028d709082bdbe591e1e5a579b5ab5?ref=outlook-calendar
STATUS:CONFIRMED
SEQUENCE:3
BEGIN:VALARM
TRIGGER:-PT10M
DESCRIPTION:Class Reminder
ACTION:DISPLAY
END:VALARM
END:VEVENT
END:VCALENDAR