BEGIN:VCALENDAR
VERSION:2.0
CALSCALE:GREGORIAN
BEGIN:VEVENT
URL:https://www.learndesk.us/class/6606029947142144/lesson/afacc49c41e71bec06a0b95f64e65eec?ref=outlook-calendar
SUMMARY:Practicing the Basics
DTSTART;TZID=America/Los_Angeles:20260423T190000
DTEND;TZID=America/Los_Angeles:20260423T200000
LOCATION:https://www.learndesk.us/class/6606029947142144/lesson/afacc49c41e71bec06a0b95f64e65eec?ref=outlook-calendar
DESCRIPTION: 
Here, we practise the basic CSS.

Module Introduction
Adding Style to our Plans
Working on the Recommended Plan
Styling the Badge with "border-radius"
Styling our List
Working on the Title and the Price of our Packages
Improving our Action Button
Understanding Outlines
Presenting the Core Features to the User
Styling the Headline of the Core Features Section
Preparing the Content of the Key Feature Area
Adding the Footer
What we achieved so Far
Adding the Packages Page
Your Challenge
Styling the Links
Styling our Package Boxes
Adding "float" to our Package
Fixing the Hover Effect
Adding the Final Touches



https://www.learndesk.us/class/6606029947142144/lesson/afacc49c41e71bec06a0b95f64e65eec?ref=outlook-calendar
STATUS:CONFIRMED
SEQUENCE:3
BEGIN:VALARM
TRIGGER:-PT10M
DESCRIPTION:Class Reminder
ACTION:DISPLAY
END:VALARM
END:VEVENT
END:VCALENDAR