BEGIN:VCALENDAR
VERSION:2.0
CALSCALE:GREGORIAN
BEGIN:VEVENT
URL:https://www.learndesk.us/class/6606029947142144/lesson/ad2b33a1343a6f627295faad7988e4cc?ref=outlook-calendar
SUMMARY:Styling the Project Form with Grid
DTSTART;TZID=America/Los_Angeles:20260422T190000
DTEND;TZID=America/Los_Angeles:20260422T200000
LOCATION:https://www.learndesk.us/class/6606029947142144/lesson/ad2b33a1343a6f627295faad7988e4cc?ref=outlook-calendar
DESCRIPTION: Let's jump back to our course project and continue applying our new knowledge. So time to apply a Grid layout to our form. While doing that, we'll also learn how we can nest Grids.

https://www.learndesk.us/class/6606029947142144/lesson/ad2b33a1343a6f627295faad7988e4cc?ref=outlook-calendar
STATUS:CONFIRMED
SEQUENCE:3
BEGIN:VALARM
TRIGGER:-PT10M
DESCRIPTION:Class Reminder
ACTION:DISPLAY
END:VALARM
END:VEVENT
END:VCALENDAR