BEGIN:VCALENDAR
VERSION:2.0
CALSCALE:GREGORIAN
BEGIN:VEVENT
URL:https://www.learndesk.us/class/6606029947142144/lesson/ace4b1b365ac9e4914f5b92cd125ad49?ref=outlook-calendar
SUMMARY:Installing Sass
DTSTART;TZID=America/Los_Angeles:20260422T190000
DTEND;TZID=America/Los_Angeles:20260422T200000
LOCATION:https://www.learndesk.us/class/6606029947142144/lesson/ace4b1b365ac9e4914f5b92cd125ad49?ref=outlook-calendar
DESCRIPTION: Let's get started with using Sass. Step #1: Install it. That's exactly what we'll do in this lecture.

https://www.learndesk.us/class/6606029947142144/lesson/ace4b1b365ac9e4914f5b92cd125ad49?ref=outlook-calendar
STATUS:CONFIRMED
SEQUENCE:3
BEGIN:VALARM
TRIGGER:-PT10M
DESCRIPTION:Class Reminder
ACTION:DISPLAY
END:VALARM
END:VEVENT
END:VCALENDAR