BEGIN:VCALENDAR
VERSION:2.0
CALSCALE:GREGORIAN
BEGIN:VEVENT
URL:https://www.learndesk.us/class/6606029947142144/lesson/ac912b2a6e18f4073242ada345b05415?ref=outlook-calendar
SUMMARY:Which Prefixes Should You Use?
DTSTART;TZID=America/Los_Angeles:20260422T190000
DTEND;TZID=America/Los_Angeles:20260422T200000
LOCATION:https://www.learndesk.us/class/6606029947142144/lesson/ac912b2a6e18f4073242ada345b05415?ref=outlook-calendar
DESCRIPTION: With the basics about vendor prefixes out of the way, let's explore which ones you should use.

https://www.learndesk.us/class/6606029947142144/lesson/ac912b2a6e18f4073242ada345b05415?ref=outlook-calendar
STATUS:CONFIRMED
SEQUENCE:3
BEGIN:VALARM
TRIGGER:-PT10M
DESCRIPTION:Class Reminder
ACTION:DISPLAY
END:VALARM
END:VEVENT
END:VCALENDAR