BEGIN:VCALENDAR
VERSION:2.0
CALSCALE:GREGORIAN
BEGIN:VEVENT
URL:https://www.learndesk.us/class/6606029947142144/lesson/aa3ee3ff58e5e4554373f7fcf084ae40?ref=outlook-calendar
SUMMARY:Applying the Display Property and Styling our Navigation Bar
DTSTART;TZID=America/Los_Angeles:20260424T190000
DTEND;TZID=America/Los_Angeles:20260424T200000
LOCATION:https://www.learndesk.us/class/6606029947142144/lesson/aa3ee3ff58e5e4554373f7fcf084ae40?ref=outlook-calendar
DESCRIPTION: After we understood the "display" property it's now time to style our navigation bar. For that we'll also use the advantages of the "inline-block" value of this property.

https://www.learndesk.us/class/6606029947142144/lesson/aa3ee3ff58e5e4554373f7fcf084ae40?ref=outlook-calendar
STATUS:CONFIRMED
SEQUENCE:3
BEGIN:VALARM
TRIGGER:-PT10M
DESCRIPTION:Class Reminder
ACTION:DISPLAY
END:VALARM
END:VEVENT
END:VCALENDAR