BEGIN:VCALENDAR
VERSION:2.0
CALSCALE:GREGORIAN
BEGIN:VEVENT
URL:https://www.learndesk.us/class/6606029947142144/lesson/a9a52d13d1a99aed01b8febde2bc3f8b?ref=outlook-calendar
SUMMARY:How to Name CSS Classes
DTSTART;TZID=America/Los_Angeles:20260422T190000
DTEND;TZID=America/Los_Angeles:20260422T200000
LOCATION:https://www.learndesk.us/class/6606029947142144/lesson/a9a52d13d1a99aed01b8febde2bc3f8b?ref=outlook-calendar
DESCRIPTION: You can name CSS classes in whichever way you want. But that of course opens up a lot of possibilities. How should you name them?

https://www.learndesk.us/class/6606029947142144/lesson/a9a52d13d1a99aed01b8febde2bc3f8b?ref=outlook-calendar
STATUS:CONFIRMED
SEQUENCE:3
BEGIN:VALARM
TRIGGER:-PT10M
DESCRIPTION:Class Reminder
ACTION:DISPLAY
END:VALARM
END:VEVENT
END:VCALENDAR