BEGIN:VCALENDAR
VERSION:2.0
CALSCALE:GREGORIAN
BEGIN:VEVENT
URL:https://www.learndesk.us/class/6606029947142144/lesson/a92ebe81b46793ba61cbd8100d4c411f?ref=outlook-calendar
SUMMARY:Understanding the "perspective" Property
DTSTART;TZID=America/Los_Angeles:20260422T190000
DTEND;TZID=America/Los_Angeles:20260422T200000
LOCATION:https://www.learndesk.us/class/6606029947142144/lesson/a92ebe81b46793ba61cbd8100d4c411f?ref=outlook-calendar
DESCRIPTION: 3D is all about understanding where the camera is. Learn how to adjust the viewer perspective in this lecture.

https://www.learndesk.us/class/6606029947142144/lesson/a92ebe81b46793ba61cbd8100d4c411f?ref=outlook-calendar
STATUS:CONFIRMED
SEQUENCE:3
BEGIN:VALARM
TRIGGER:-PT10M
DESCRIPTION:Class Reminder
ACTION:DISPLAY
END:VALARM
END:VEVENT
END:VCALENDAR