BEGIN:VCALENDAR
VERSION:2.0
CALSCALE:GREGORIAN
BEGIN:VEVENT
URL:https://www.learndesk.us/class/6606029947142144/lesson/a7ec2a934092669c9b4ac8e0053ee9d4?ref=outlook-calendar
SUMMARY:What is the CSS Grid?
DTSTART;TZID=America/Los_Angeles:20260425T190000
DTEND;TZID=America/Los_Angeles:20260425T200000
LOCATION:https://www.learndesk.us/class/6606029947142144/lesson/a7ec2a934092669c9b4ac8e0053ee9d4?ref=outlook-calendar
DESCRIPTION: Let me start this module with the answer to the most important question: What is the CSS Grid?

https://www.learndesk.us/class/6606029947142144/lesson/a7ec2a934092669c9b4ac8e0053ee9d4?ref=outlook-calendar
STATUS:CONFIRMED
SEQUENCE:3
BEGIN:VALARM
TRIGGER:-PT10M
DESCRIPTION:Class Reminder
ACTION:DISPLAY
END:VALARM
END:VEVENT
END:VCALENDAR