BEGIN:VCALENDAR
VERSION:2.0
CALSCALE:GREGORIAN
BEGIN:VEVENT
URL:https://www.learndesk.us/class/6606029947142144/lesson/a754b04765b5b882e506e4af5f7830d0?ref=outlook-calendar
SUMMARY:Styling the Links
DTSTART;TZID=America/Los_Angeles:20260423T190000
DTEND;TZID=America/Los_Angeles:20260423T200000
LOCATION:https://www.learndesk.us/class/6606029947142144/lesson/a754b04765b5b882e506e4af5f7830d0?ref=outlook-calendar
DESCRIPTION: How did I solve it? Let me show you my solution in this video and let's start with the styling of our links.

https://www.learndesk.us/class/6606029947142144/lesson/a754b04765b5b882e506e4af5f7830d0?ref=outlook-calendar
STATUS:CONFIRMED
SEQUENCE:3
BEGIN:VALARM
TRIGGER:-PT10M
DESCRIPTION:Class Reminder
ACTION:DISPLAY
END:VALARM
END:VEVENT
END:VCALENDAR