BEGIN:VCALENDAR
VERSION:2.0
CALSCALE:GREGORIAN
BEGIN:VEVENT
URL:https://www.learndesk.us/class/6606029947142144/lesson/a705fd65247e59e08e43fd2f382e2a71?ref=outlook-calendar
SUMMARY:Styling the Checkbox
DTSTART;TZID=America/Los_Angeles:20260422T190000
DTEND;TZID=America/Los_Angeles:20260422T200000
LOCATION:https://www.learndesk.us/class/6606029947142144/lesson/a705fd65247e59e08e43fd2f382e2a71?ref=outlook-calendar
DESCRIPTION: Thus far, we focused on "normal" form inputs - let's now style a fancier one: The checkbox element.

https://www.learndesk.us/class/6606029947142144/lesson/a705fd65247e59e08e43fd2f382e2a71?ref=outlook-calendar
STATUS:CONFIRMED
SEQUENCE:3
BEGIN:VALARM
TRIGGER:-PT10M
DESCRIPTION:Class Reminder
ACTION:DISPLAY
END:VALARM
END:VEVENT
END:VCALENDAR