BEGIN:VCALENDAR
VERSION:2.0
CALSCALE:GREGORIAN
BEGIN:VEVENT
URL:https://www.learndesk.us/class/6606029947142144/lesson/a5f0d884267018d302a8e42b7bd51253?ref=outlook-calendar
SUMMARY:Fixing the Height 100% Issue
DTSTART;TZID=America/Los_Angeles:20260422T190000
DTEND;TZID=America/Los_Angeles:20260422T200000
LOCATION:https://www.learndesk.us/class/6606029947142144/lesson/a5f0d884267018d302a8e42b7bd51253?ref=outlook-calendar
DESCRIPTION: "%" are clear now, but why doesn't "height: 100%" work as intended? Turns out that we need a workaround to be able to inherit the height from our parent element in certain situations. Let's have a look.

https://www.learndesk.us/class/6606029947142144/lesson/a5f0d884267018d302a8e42b7bd51253?ref=outlook-calendar
STATUS:CONFIRMED
SEQUENCE:3
BEGIN:VALARM
TRIGGER:-PT10M
DESCRIPTION:Class Reminder
ACTION:DISPLAY
END:VALARM
END:VEVENT
END:VCALENDAR