BEGIN:VCALENDAR
VERSION:2.0
CALSCALE:GREGORIAN
BEGIN:VEVENT
URL:https://www.learndesk.us/class/6606029947142144/lesson/a4e287e397614b8eedc76fe557f680b1?ref=outlook-calendar
SUMMARY:Understanding an Unexpected "inline-block" Behaviour
DTSTART;TZID=America/Los_Angeles:20260422T190000
DTEND;TZID=America/Los_Angeles:20260422T200000
LOCATION:https://www.learndesk.us/class/6606029947142144/lesson/a4e287e397614b8eedc76fe557f680b1?ref=outlook-calendar
DESCRIPTION: "inline-block" is a really helpful value, but there is one specific behaviour which can cause problems in practice. Let me show you which problem this is and how you can easily solve it.

https://www.learndesk.us/class/6606029947142144/lesson/a4e287e397614b8eedc76fe557f680b1?ref=outlook-calendar
STATUS:CONFIRMED
SEQUENCE:3
BEGIN:VALARM
TRIGGER:-PT10M
DESCRIPTION:Class Reminder
ACTION:DISPLAY
END:VALARM
END:VEVENT
END:VCALENDAR