BEGIN:VCALENDAR
VERSION:2.0
CALSCALE:GREGORIAN
BEGIN:VEVENT
URL:https://www.learndesk.us/class/6606029947142144/lesson/a44fdb245e2d357b9e707b1b6ea61ec1?ref=outlook-calendar
SUMMARY:Styling our List
DTSTART;TZID=America/Los_Angeles:20260425T190000
DTEND;TZID=America/Los_Angeles:20260425T200000
LOCATION:https://www.learndesk.us/class/6606029947142144/lesson/a44fdb245e2d357b9e707b1b6ea61ec1?ref=outlook-calendar
DESCRIPTION: All our plans include lists which present the features of the corresponding plan. The bullet points are quite ugly though, so let's remove these and improve the look of our lists.

https://www.learndesk.us/class/6606029947142144/lesson/a44fdb245e2d357b9e707b1b6ea61ec1?ref=outlook-calendar
STATUS:CONFIRMED
SEQUENCE:3
BEGIN:VALARM
TRIGGER:-PT10M
DESCRIPTION:Class Reminder
ACTION:DISPLAY
END:VALARM
END:VEVENT
END:VCALENDAR