BEGIN:VCALENDAR
VERSION:2.0
CALSCALE:GREGORIAN
BEGIN:VEVENT
URL:https://www.learndesk.us/class/6606029947142144/lesson/a44a8b5db7c5914ebe792c78cdf9a03b?ref=outlook-calendar
SUMMARY:Vanilla CSS vs Frameworks
DTSTART;TZID=America/Los_Angeles:20260423T190000
DTEND;TZID=America/Los_Angeles:20260423T200000
LOCATION:https://www.learndesk.us/class/6606029947142144/lesson/a44a8b5db7c5914ebe792c78cdf9a03b?ref=outlook-calendar
DESCRIPTION: You can also use CSS frameworks in your projects. Which kind of frameworks exist and when should you use them?

https://www.learndesk.us/class/6606029947142144/lesson/a44a8b5db7c5914ebe792c78cdf9a03b?ref=outlook-calendar
STATUS:CONFIRMED
SEQUENCE:3
BEGIN:VALARM
TRIGGER:-PT10M
DESCRIPTION:Class Reminder
ACTION:DISPLAY
END:VALARM
END:VEVENT
END:VCALENDAR