BEGIN:VCALENDAR
VERSION:2.0
CALSCALE:GREGORIAN
BEGIN:VEVENT
URL:https://www.learndesk.us/class/6606029947142144/lesson/a2a61a1e2e238231bc42ed9e4a2575fe?ref=outlook-calendar
SUMMARY:Working with Google Fonts
DTSTART;TZID=America/Los_Angeles:20260422T190000
DTEND;TZID=America/Los_Angeles:20260422T200000
LOCATION:https://www.learndesk.us/class/6606029947142144/lesson/a2a61a1e2e238231bc42ed9e4a2575fe?ref=outlook-calendar
DESCRIPTION: Using fonts only locally available for (some) users is not the best way to add a font family. Web fonts are a great alternative, so let's learn how to add a web font at the example of google fonts.

https://www.learndesk.us/class/6606029947142144/lesson/a2a61a1e2e238231bc42ed9e4a2575fe?ref=outlook-calendar
STATUS:CONFIRMED
SEQUENCE:3
BEGIN:VALARM
TRIGGER:-PT10M
DESCRIPTION:Class Reminder
ACTION:DISPLAY
END:VALARM
END:VEVENT
END:VCALENDAR