BEGIN:VCALENDAR
VERSION:2.0
CALSCALE:GREGORIAN
BEGIN:VEVENT
URL:https://www.learndesk.us/class/6606029947142144/lesson/a1f5a1addb18b98c97c8395daa869c14?ref=outlook-calendar
SUMMARY:Module Introduction
DTSTART;TZID=America/Los_Angeles:20260423T190000
DTEND;TZID=America/Los_Angeles:20260423T200000
LOCATION:https://www.learndesk.us/class/6606029947142144/lesson/a1f5a1addb18b98c97c8395daa869c14?ref=outlook-calendar
DESCRIPTION: The author introduces you to this module and to what you'll learn inside of it.

https://www.learndesk.us/class/6606029947142144/lesson/a1f5a1addb18b98c97c8395daa869c14?ref=outlook-calendar
STATUS:CONFIRMED
SEQUENCE:3
BEGIN:VALARM
TRIGGER:-PT10M
DESCRIPTION:Class Reminder
ACTION:DISPLAY
END:VALARM
END:VEVENT
END:VCALENDAR