BEGIN:VCALENDAR
VERSION:2.0
CALSCALE:GREGORIAN
BEGIN:VEVENT
URL:https://www.learndesk.us/class/6606029947142144/lesson/a041c4d247db7444909a9575c0db1745?ref=outlook-calendar
SUMMARY:Comparing the Viewport Metatag (HTML) and Media Queries (CSS)
DTSTART;TZID=America/Los_Angeles:20260422T190000
DTEND;TZID=America/Los_Angeles:20260422T200000
LOCATION:https://www.learndesk.us/class/6606029947142144/lesson/a041c4d247db7444909a9575c0db1745?ref=outlook-calendar
DESCRIPTION: Making our website responsive requires both HTML and CSS: In HTML we need to use the "viewport" metatag, in CSS we will add media queries. Let me introduce both concepts to you in this lecture.

https://www.learndesk.us/class/6606029947142144/lesson/a041c4d247db7444909a9575c0db1745?ref=outlook-calendar
STATUS:CONFIRMED
SEQUENCE:3
BEGIN:VALARM
TRIGGER:-PT10M
DESCRIPTION:Class Reminder
ACTION:DISPLAY
END:VALARM
END:VEVENT
END:VCALENDAR