BEGIN:VCALENDAR
VERSION:2.0
CALSCALE:GREGORIAN
BEGIN:VEVENT
URL:https://www.learndesk.us/class/6606029947142144/lesson/9d40c769e51529f34b399a311c7695d3?ref=outlook-calendar
SUMMARY:Diving into Font Properties
DTSTART;TZID=America/Los_Angeles:20260422T190000
DTEND;TZID=America/Los_Angeles:20260422T200000
LOCATION:https://www.learndesk.us/class/6606029947142144/lesson/9d40c769e51529f34b399a311c7695d3?ref=outlook-calendar
DESCRIPTION: We added the font to our website, now it's time to dive into the properties we have to change the default style of this font. So what can we do with "font-size", "font-variant" and "font-stretch"?

https://www.learndesk.us/class/6606029947142144/lesson/9d40c769e51529f34b399a311c7695d3?ref=outlook-calendar
STATUS:CONFIRMED
SEQUENCE:3
BEGIN:VALARM
TRIGGER:-PT10M
DESCRIPTION:Class Reminder
ACTION:DISPLAY
END:VALARM
END:VEVENT
END:VCALENDAR