BEGIN:VCALENDAR
VERSION:2.0
CALSCALE:GREGORIAN
BEGIN:VEVENT
URL:https://www.learndesk.us/class/6606029947142144/lesson/9bd171abda1be73f6f5fc0cca98edb34?ref=outlook-calendar
SUMMARY:Understanding Outlines
DTSTART;TZID=America/Los_Angeles:20260422T190000
DTEND;TZID=America/Los_Angeles:20260422T200000
LOCATION:https://www.learndesk.us/class/6606029947142144/lesson/9bd171abda1be73f6f5fc0cca98edb34?ref=outlook-calendar
DESCRIPTION: We styled our buttons, but if we hover over these we still see an additional blue outline. This is automatically added to the element and definitely something we don't want to be displayed. Let's learn how we can remove it in this video.

https://www.learndesk.us/class/6606029947142144/lesson/9bd171abda1be73f6f5fc0cca98edb34?ref=outlook-calendar
STATUS:CONFIRMED
SEQUENCE:3
BEGIN:VALARM
TRIGGER:-PT10M
DESCRIPTION:Class Reminder
ACTION:DISPLAY
END:VALARM
END:VEVENT
END:VCALENDAR