BEGIN:VCALENDAR
VERSION:2.0
CALSCALE:GREGORIAN
BEGIN:VEVENT
URL:https://www.learndesk.us/class/6606029947142144/lesson/9af8e3243233e20ace935fcd3008d56e?ref=outlook-calendar
SUMMARY:Working on the Image Layout
DTSTART;TZID=America/Los_Angeles:20260422T190000
DTEND;TZID=America/Los_Angeles:20260422T200000
LOCATION:https://www.learndesk.us/class/6606029947142144/lesson/9af8e3243233e20ace935fcd3008d56e?ref=outlook-calendar
DESCRIPTION: With our page growing, let's now continue working on the image layout.

https://www.learndesk.us/class/6606029947142144/lesson/9af8e3243233e20ace935fcd3008d56e?ref=outlook-calendar
STATUS:CONFIRMED
SEQUENCE:3
BEGIN:VALARM
TRIGGER:-PT10M
DESCRIPTION:Class Reminder
ACTION:DISPLAY
END:VALARM
END:VEVENT
END:VCALENDAR