BEGIN:VCALENDAR
VERSION:2.0
CALSCALE:GREGORIAN
BEGIN:VEVENT
URL:https://www.learndesk.us/class/6606029947142144/lesson/9881d284bd474da5016ee3a6e9dc8507?ref=outlook-calendar
SUMMARY:Understanding Background Images and Images
DTSTART;TZID=America/Los_Angeles:20260423T190000
DTEND;TZID=America/Los_Angeles:20260423T200000
LOCATION:https://www.learndesk.us/class/6606029947142144/lesson/9881d284bd474da5016ee3a6e9dc8507?ref=outlook-calendar
DESCRIPTION: 
In this section, we link background images to our website.

Optional: Advanced Track Introduction
Module Introduction
Understanding "background-size"
Working with "background-position"
The "background" Shorthand – Theory
Applying "background" Origin, Clip and Attachment
Using the "background" Shorthand on our Project
Styling Images
Adding the Customers Page to our Website
Working on the Image Layout
Understanding Linear Gradients
Applying Radial Gradients
Stacking Multiple Backgrounds
Understanding Filters
Adding and Styling SVGs - The Basics
Wrap Up

 


https://www.learndesk.us/class/6606029947142144/lesson/9881d284bd474da5016ee3a6e9dc8507?ref=outlook-calendar
STATUS:CONFIRMED
SEQUENCE:3
BEGIN:VALARM
TRIGGER:-PT10M
DESCRIPTION:Class Reminder
ACTION:DISPLAY
END:VALARM
END:VEVENT
END:VCALENDAR