BEGIN:VCALENDAR
VERSION:2.0
CALSCALE:GREGORIAN
BEGIN:VEVENT
URL:https://www.learndesk.us/class/6606029947142144/lesson/94cf9f1387f62bb9839aa4a513ebec75?ref=outlook-calendar
SUMMARY:Understanding Filters
DTSTART;TZID=America/Los_Angeles:20260423T190000
DTEND;TZID=America/Los_Angeles:20260423T200000
LOCATION:https://www.learndesk.us/class/6606029947142144/lesson/94cf9f1387f62bb9839aa4a513ebec75?ref=outlook-calendar
DESCRIPTION: Gradients, images - so many ways to adjust the visuals of our page. Let's add one additional feature: Filters.

https://www.learndesk.us/class/6606029947142144/lesson/94cf9f1387f62bb9839aa4a513ebec75?ref=outlook-calendar
STATUS:CONFIRMED
SEQUENCE:3
BEGIN:VALARM
TRIGGER:-PT10M
DESCRIPTION:Class Reminder
ACTION:DISPLAY
END:VALARM
END:VEVENT
END:VCALENDAR