BEGIN:VCALENDAR
VERSION:2.0
CALSCALE:GREGORIAN
BEGIN:VEVENT
URL:https://www.learndesk.us/class/6606029947142144/lesson/8f8faa65603af07399fb33ea9ad48935?ref=outlook-calendar
SUMMARY:Working with JavaScript and CSS
DTSTART;TZID=America/Los_Angeles:20260423T190000
DTEND;TZID=America/Los_Angeles:20260423T200000
LOCATION:https://www.learndesk.us/class/6606029947142144/lesson/8f8faa65603af07399fb33ea9ad48935?ref=outlook-calendar
DESCRIPTION: 
In this section, we work with JavaScript and CSS together.

Module Introduction
Adding a Modal
Selecting and Manipulating Styles with JavaScript
Adding an Event Listener
Adding a Side Navigation Bar
Opening and Closing the Hamburger Menu
Manipulating Element Classes
Understanding Property Notations
Cleaning Up our Code
Wrap Up



https://www.learndesk.us/class/6606029947142144/lesson/8f8faa65603af07399fb33ea9ad48935?ref=outlook-calendar
STATUS:CONFIRMED
SEQUENCE:3
BEGIN:VALARM
TRIGGER:-PT10M
DESCRIPTION:Class Reminder
ACTION:DISPLAY
END:VALARM
END:VEVENT
END:VCALENDAR