BEGIN:VCALENDAR
VERSION:2.0
CALSCALE:GREGORIAN
BEGIN:VEVENT
URL:https://www.learndesk.us/class/6606029947142144/lesson/8f1ef2c57cba14d6a594b149c52674b8?ref=outlook-calendar
SUMMARY:Diving Into the Height and Width Properties
DTSTART;TZID=America/Los_Angeles:20260422T190000
DTEND;TZID=America/Los_Angeles:20260422T200000
LOCATION:https://www.learndesk.us/class/6606029947142144/lesson/8f1ef2c57cba14d6a594b149c52674b8?ref=outlook-calendar
DESCRIPTION: Styling our website also requires to define the size of our elements. In this video, we will apply the "height" and "width" properties and see how we can use these to change the box size according to our needs.

https://www.learndesk.us/class/6606029947142144/lesson/8f1ef2c57cba14d6a594b149c52674b8?ref=outlook-calendar
STATUS:CONFIRMED
SEQUENCE:3
BEGIN:VALARM
TRIGGER:-PT10M
DESCRIPTION:Class Reminder
ACTION:DISPLAY
END:VALARM
END:VEVENT
END:VCALENDAR