BEGIN:VCALENDAR
VERSION:2.0
CALSCALE:GREGORIAN
BEGIN:VEVENT
URL:https://www.learndesk.us/class/6606029947142144/lesson/8eef52191ecd12a8f3c5dde2fe7143ec?ref=outlook-calendar
SUMMARY:Working with the "fixed" Value
DTSTART;TZID=America/Los_Angeles:20260422T190000
DTEND;TZID=America/Los_Angeles:20260422T200000
LOCATION:https://www.learndesk.us/class/6606029947142144/lesson/8eef52191ecd12a8f3c5dde2fe7143ec?ref=outlook-calendar
DESCRIPTION: We understood that we can apply different values to the "position" property. Let's take a closer look at the "fixed" value, understand its positioning context and the impact on the document flow it has on the element it is applied to.

https://www.learndesk.us/class/6606029947142144/lesson/8eef52191ecd12a8f3c5dde2fe7143ec?ref=outlook-calendar
STATUS:CONFIRMED
SEQUENCE:3
BEGIN:VALARM
TRIGGER:-PT10M
DESCRIPTION:Class Reminder
ACTION:DISPLAY
END:VALARM
END:VEVENT
END:VCALENDAR