BEGIN:VCALENDAR
VERSION:2.0
CALSCALE:GREGORIAN
BEGIN:VEVENT
URL:https://www.learndesk.us/class/6606029947142144/lesson/8e6ca21d2bec9bbe12d622948081e42e?ref=outlook-calendar
SUMMARY:Working with Gaps
DTSTART;TZID=America/Los_Angeles:20260422T190000
DTEND;TZID=America/Los_Angeles:20260422T200000
LOCATION:https://www.learndesk.us/class/6606029947142144/lesson/8e6ca21d2bec9bbe12d622948081e42e?ref=outlook-calendar
DESCRIPTION: Right now all rows and columns sit directly next to each other. Let's have a look at "grid-column-gap", "grid-row-gap"  and the "grid-gap" shorthand to change this.

https://www.learndesk.us/class/6606029947142144/lesson/8e6ca21d2bec9bbe12d622948081e42e?ref=outlook-calendar
STATUS:CONFIRMED
SEQUENCE:3
BEGIN:VALARM
TRIGGER:-PT10M
DESCRIPTION:Class Reminder
ACTION:DISPLAY
END:VALARM
END:VEVENT
END:VCALENDAR