BEGIN:VCALENDAR
VERSION:2.0
CALSCALE:GREGORIAN
BEGIN:VEVENT
URL:https://www.learndesk.us/class/6606029947142144/lesson/89d581a0129b0608be2a6a6da7c6f13e?ref=outlook-calendar
SUMMARY:Working with "rem" and "em"
DTSTART;TZID=America/Los_Angeles:20260423T190000
DTEND;TZID=America/Los_Angeles:20260423T200000
LOCATION:https://www.learndesk.us/class/6606029947142144/lesson/89d581a0129b0608be2a6a6da7c6f13e?ref=outlook-calendar
DESCRIPTION: Time to introduce new units - "rem" and "em". These always refer to the font-size and therefore allow us to make our styling more dynamic depending on the font-size chosen by our visitors. Let me show you how this works.

https://www.learndesk.us/class/6606029947142144/lesson/89d581a0129b0608be2a6a6da7c6f13e?ref=outlook-calendar
STATUS:CONFIRMED
SEQUENCE:3
BEGIN:VALARM
TRIGGER:-PT10M
DESCRIPTION:Class Reminder
ACTION:DISPLAY
END:VALARM
END:VEVENT
END:VCALENDAR