BEGIN:VCALENDAR
VERSION:2.0
CALSCALE:GREGORIAN
BEGIN:VEVENT
URL:https://www.learndesk.us/class/6606029947142144/lesson/8929d6aeac7f7f131bd2e8d8316fc5b0?ref=outlook-calendar
SUMMARY:Detecting Browser Support with @supports
DTSTART;TZID=America/Los_Angeles:20260424T190000
DTEND;TZID=America/Los_Angeles:20260424T200000
LOCATION:https://www.learndesk.us/class/6606029947142144/lesson/8929d6aeac7f7f131bd2e8d8316fc5b0?ref=outlook-calendar
DESCRIPTION: Sometimes, you need a certain fallback in case a browser doesn't support a feature. @supports helps you with that.

https://www.learndesk.us/class/6606029947142144/lesson/8929d6aeac7f7f131bd2e8d8316fc5b0?ref=outlook-calendar
STATUS:CONFIRMED
SEQUENCE:3
BEGIN:VALARM
TRIGGER:-PT10M
DESCRIPTION:Class Reminder
ACTION:DISPLAY
END:VALARM
END:VEVENT
END:VCALENDAR