BEGIN:VCALENDAR
VERSION:2.0
CALSCALE:GREGORIAN
BEGIN:VEVENT
URL:https://www.learndesk.us/class/6606029947142144/lesson/89154b0f89960f9a07f8c01d4d0375ea?ref=outlook-calendar
SUMMARY:How to Get The Most Out of this Course
DTSTART;TZID=America/Los_Angeles:20260422T190000
DTEND;TZID=America/Los_Angeles:20260422T200000
LOCATION:https://www.learndesk.us/class/6606029947142144/lesson/89154b0f89960f9a07f8c01d4d0375ea?ref=outlook-calendar
DESCRIPTION: There's more than one way of taking a course. Let's find out how you can get the most out of this course in this lecture.

https://www.learndesk.us/class/6606029947142144/lesson/89154b0f89960f9a07f8c01d4d0375ea?ref=outlook-calendar
STATUS:CONFIRMED
SEQUENCE:3
BEGIN:VALARM
TRIGGER:-PT10M
DESCRIPTION:Class Reminder
ACTION:DISPLAY
END:VALARM
END:VEVENT
END:VCALENDAR