BEGIN:VCALENDAR
VERSION:2.0
CALSCALE:GREGORIAN
BEGIN:VEVENT
URL:https://www.learndesk.us/class/6606029947142144/lesson/8901d64ac058372999d6a5c612576ebe?ref=outlook-calendar
SUMMARY:Creating a Dense Grid
DTSTART;TZID=America/Los_Angeles:20260422T190000
DTEND;TZID=America/Los_Angeles:20260422T200000
LOCATION:https://www.learndesk.us/class/6606029947142144/lesson/8901d64ac058372999d6a5c612576ebe?ref=outlook-calendar
DESCRIPTION: Time to understand the "dense" value in our Grid and to see how this allows us to overwrite a specific default behaviour related to the DOM order.

https://www.learndesk.us/class/6606029947142144/lesson/8901d64ac058372999d6a5c612576ebe?ref=outlook-calendar
STATUS:CONFIRMED
SEQUENCE:3
BEGIN:VALARM
TRIGGER:-PT10M
DESCRIPTION:Class Reminder
ACTION:DISPLAY
END:VALARM
END:VEVENT
END:VCALENDAR