BEGIN:VCALENDAR
VERSION:2.0
CALSCALE:GREGORIAN
BEGIN:VEVENT
URL:https://www.learndesk.us/class/6606029947142144/lesson/886a097be5fdff5b7188e25f8eca1280?ref=outlook-calendar
SUMMARY:Fixing the Hover Effect
DTSTART;TZID=America/Los_Angeles:20260422T190000
DTEND;TZID=America/Los_Angeles:20260422T200000
LOCATION:https://www.learndesk.us/class/6606029947142144/lesson/886a097be5fdff5b7188e25f8eca1280?ref=outlook-calendar
DESCRIPTION: With "float" being applied, the free plan is positioned correctly, but the hover effect doesn't work correctly any more. Let me show you how to easily fix that in this video

https://www.learndesk.us/class/6606029947142144/lesson/886a097be5fdff5b7188e25f8eca1280?ref=outlook-calendar
STATUS:CONFIRMED
SEQUENCE:3
BEGIN:VALARM
TRIGGER:-PT10M
DESCRIPTION:Class Reminder
ACTION:DISPLAY
END:VALARM
END:VEVENT
END:VCALENDAR