BEGIN:VCALENDAR
VERSION:2.0
CALSCALE:GREGORIAN
BEGIN:VEVENT
URL:https://www.learndesk.us/class/6606029947142144/lesson/88424d023f5acdba57ade9c5e6676a09?ref=outlook-calendar
SUMMARY:Transforming Elements with CSS Transforms
DTSTART;TZID=America/Los_Angeles:20260422T190000
DTEND;TZID=America/Los_Angeles:20260422T200000
LOCATION:https://www.learndesk.us/class/6606029947142144/lesson/88424d023f5acdba57ade9c5e6676a09?ref=outlook-calendar
DESCRIPTION: 
In this section, we transform elements with CSS keywords like “skew” and “scale”.

Module Introduction
Rotating Elements and setting transform-origin
Using Rotate and Translate
Working with "skew" and "scale"
Applying Transformation Shorthands
Rotating Elements in 3 Dimensions
Understanding the "perspective" Property
Moving Elements along the Z-Axis with "translateZ"
Rotating the Container with "transform style"
Flipping Elements and "backface-visibility"
Wrap Up

 


https://www.learndesk.us/class/6606029947142144/lesson/88424d023f5acdba57ade9c5e6676a09?ref=outlook-calendar
STATUS:CONFIRMED
SEQUENCE:3
BEGIN:VALARM
TRIGGER:-PT10M
DESCRIPTION:Class Reminder
ACTION:DISPLAY
END:VALARM
END:VEVENT
END:VCALENDAR