BEGIN:VCALENDAR
VERSION:2.0
CALSCALE:GREGORIAN
BEGIN:VEVENT
URL:https://www.learndesk.us/class/6606029947142144/lesson/882b7baaa8d3dca1acca3013ca5eccef?ref=outlook-calendar
SUMMARY:Styling Anchor Tags
DTSTART;TZID=America/Los_Angeles:20260422T190000
DTEND;TZID=America/Los_Angeles:20260422T200000
LOCATION:https://www.learndesk.us/class/6606029947142144/lesson/882b7baaa8d3dca1acca3013ca5eccef?ref=outlook-calendar
DESCRIPTION: Styling links is very important as every website contain such. The default styling is not the most beautiful one though, so let's find out how we can improve that.

https://www.learndesk.us/class/6606029947142144/lesson/882b7baaa8d3dca1acca3013ca5eccef?ref=outlook-calendar
STATUS:CONFIRMED
SEQUENCE:3
BEGIN:VALARM
TRIGGER:-PT10M
DESCRIPTION:Class Reminder
ACTION:DISPLAY
END:VALARM
END:VEVENT
END:VCALENDAR