BEGIN:VCALENDAR
VERSION:2.0
CALSCALE:GREGORIAN
BEGIN:VEVENT
URL:https://www.learndesk.us/class/6606029947142144/lesson/864174fae4ad0f7f19e4c9867c45539d?ref=outlook-calendar
SUMMARY:Sizes and Units
DTSTART;TZID=America/Los_Angeles:20260422T190000
DTEND;TZID=America/Los_Angeles:20260422T200000
LOCATION:https://www.learndesk.us/class/6606029947142144/lesson/864174fae4ad0f7f19e4c9867c45539d?ref=outlook-calendar
DESCRIPTION: 
In this section, we look into what’s wrong with our project units.

Module Introduction
What's Wrong With Our Project Units?
Where Units Matter
An Overview of Available Sizes and Units
Rules to Remember: Fixed Positioning & "%"
Rules to Remember: Absolute Positioning & "%"
Rules to Remember: Relative / Static Positioning & "%"
Fixing the Height 100% Issue
Defining the Font Size in the Root Element
Using "min-width/height" and "max-width/height"
Working with "rem" and "em"
Adding "rem" to Additional Properties
Finishing "rem"
Understanding the Viewport Units "vw" and"vh"
Choosing the Right Unit
Using "auto" to Center Elements
Cleaning Up our Code
Wrap Up



https://www.learndesk.us/class/6606029947142144/lesson/864174fae4ad0f7f19e4c9867c45539d?ref=outlook-calendar
STATUS:CONFIRMED
SEQUENCE:3
BEGIN:VALARM
TRIGGER:-PT10M
DESCRIPTION:Class Reminder
ACTION:DISPLAY
END:VALARM
END:VEVENT
END:VCALENDAR