BEGIN:VCALENDAR
VERSION:2.0
CALSCALE:GREGORIAN
BEGIN:VEVENT
URL:https://www.learndesk.us/class/6606029947142144/lesson/8349aac213489c7febd5be069ed0f0bb?ref=outlook-calendar
SUMMARY:Creating a Fixed Navigation Bar
DTSTART;TZID=America/Los_Angeles:20260422T190000
DTEND;TZID=America/Los_Angeles:20260422T200000
LOCATION:https://www.learndesk.us/class/6606029947142144/lesson/8349aac213489c7febd5be069ed0f0bb?ref=outlook-calendar
DESCRIPTION: We already have a navigation bar on our website, but as soon as we scroll down the bar disappears. Let's understand how we can stick the navigation bar to the viewport with the "fixed" value.

https://www.learndesk.us/class/6606029947142144/lesson/8349aac213489c7febd5be069ed0f0bb?ref=outlook-calendar
STATUS:CONFIRMED
SEQUENCE:3
BEGIN:VALARM
TRIGGER:-PT10M
DESCRIPTION:Class Reminder
ACTION:DISPLAY
END:VALARM
END:VEVENT
END:VCALENDAR