BEGIN:VCALENDAR
VERSION:2.0
CALSCALE:GREGORIAN
BEGIN:VEVENT
URL:https://www.learndesk.us/class/6606029947142144/lesson/8209bdcb21d4816d62af96849b356893?ref=outlook-calendar
SUMMARY:Using Multiple CSS Classes and Combined Selectors
DTSTART;TZID=America/Los_Angeles:20260422T190000
DTEND;TZID=America/Los_Angeles:20260422T200000
LOCATION:https://www.learndesk.us/class/6606029947142144/lesson/8209bdcb21d4816d62af96849b356893?ref=outlook-calendar
DESCRIPTION: There are a couple of things we can do with CSS classes and selectors in general.

https://www.learndesk.us/class/6606029947142144/lesson/8209bdcb21d4816d62af96849b356893?ref=outlook-calendar
STATUS:CONFIRMED
SEQUENCE:3
BEGIN:VALARM
TRIGGER:-PT10M
DESCRIPTION:Class Reminder
ACTION:DISPLAY
END:VALARM
END:VEVENT
END:VCALENDAR